BEGIN:VCALENDAR
VERSION:2.0
PRODID:-//TSV Waldenbuch 1891 e.V. - ECPv4.6.15//NONSGML v1.0//EN
CALSCALE:GREGORIAN
METHOD:PUBLISH
X-WR-CALNAME:TSV Waldenbuch 1891 e.V.
X-ORIGINAL-URL:https://www.tsv-waldenbuch.de
X-WR-CALDESC:Veranstaltungen für TSV Waldenbuch 1891 e.V.
BEGIN:VEVENT
DTSTART;VALUE=DATE:20240723
DTEND;VALUE=DATE:20240729
DTSTAMP:20260420T123843
CREATED:20240720T105414Z
LAST-MODIFIED:20240722T100806Z
UID:28675-1721692800-1722211199@www.tsv-waldenbuch.de
SUMMARY:12. Waldenbuch Open 23.-28. Juli 2024
DESCRIPTION:12. Waldenbuch Open: Hochklassiges Senioren-Tennis bis zum 28. Juli Foto: WH \nVom 23. bis zum 28. Juli 2024 ist die Tennisanlage des TSV Waldenbuch im Ortsteil Hasenhof wieder Schauplatz des bundesweit beliebten Turniers „Waldenbuch Open“. Bereits zum 12. Mal spielen sportliche Seniorinnen und Senioren um die Turniertitel. Die Perspektive\, sich in der Tennis-Hierarchie zu verbessern und ein Preisgeld von 1800 Euro haben in den vergangenen Jahren jeweils bis zu 200 Spielerinnen und Spieler nach Waldenbuch gelockt. Das Event zählt zur zweithöchsten Kategorie der nationalen DTB-Turniere mit Ranglisten- und Leistungsklassenwertung. Gespielt werden an den sechs Turniertagen Einzel in den Altersklassen 40\, 50\, 60\, 65 und 70 bei den Damen sowie in den Altersklassen 40\, 50\, 55\, 60\, 65\, 70 und 75 bei den Herren. Außerdem gibt es einen Wettbewerbe im Mixed-Doppel. \n
URL:https://www.tsv-waldenbuch.de/termin/12-waldenbuch-open-23-28-juli-2024/
LOCATION:Teckstraße 24\, Waldenbuch\, 71111
GEO:48.6458582;9.152057
X-APPLE-STRUCTURED-LOCATION;VALUE=URI;X-ADDRESS=Teckstraße 24 Waldenbuch 71111;X-APPLE-RADIUS=500;X-TITLE=Teckstraße 24:geo:9.152057,48.6458582
CATEGORIES:Tennis
END:VEVENT
END:VCALENDAR