BEGIN:VCALENDAR
VERSION:2.0
PRODID:-//TSV Waldenbuch 1891 e.V. - ECPv4.6.15//NONSGML v1.0//EN
CALSCALE:GREGORIAN
METHOD:PUBLISH
X-WR-CALNAME:TSV Waldenbuch 1891 e.V.
X-ORIGINAL-URL:https://www.tsv-waldenbuch.de
X-WR-CALDESC:Veranstaltungen für TSV Waldenbuch 1891 e.V.
BEGIN:VEVENT
DTSTART;TZID=Europe/Berlin:20240208T190000
DTEND;TZID=Europe/Berlin:20240208T233000
DTSTAMP:20260423T082415
CREATED:20231125T161151Z
LAST-MODIFIED:20240104T144103Z
UID:26666-1707418800-1707435000@www.tsv-waldenbuch.de
SUMMARY:8. Hallenfasnet
DESCRIPTION:Hasenbühl-Hexen e.V. \n  \nEinlass: 19.01 Uhr \nBeginn: 20.01 Uhr \nAuftritt: Black Roses Garde 22.30 Uhr \n
URL:https://www.tsv-waldenbuch.de/termin/8-hallenfasnet/
LOCATION:Im Hasenbühl 7\, Schönaich\, 71101\, Deutschland
CATEGORIES:Fasnet
ATTACH;FMTTYPE=image/png:https://www.tsv-waldenbuch.de/wp-content/uploads/2023/11/Bild-Schönaich.png
END:VEVENT
END:VCALENDAR