BEGIN:VCALENDAR
VERSION:2.0
PRODID:-//TSV Waldenbuch 1891 e.V. - ECPv4.6.15//NONSGML v1.0//EN
CALSCALE:GREGORIAN
METHOD:PUBLISH
X-WR-CALNAME:TSV Waldenbuch 1891 e.V.
X-ORIGINAL-URL:https://www.tsv-waldenbuch.de
X-WR-CALDESC:Veranstaltungen für TSV Waldenbuch 1891 e.V.
BEGIN:VEVENT
DTSTART;TZID=Europe/Berlin:20250113T103000
DTEND;TZID=Europe/Berlin:20250113T113000
DTSTAMP:20260420T111705
CREATED:20241202T115217Z
LAST-MODIFIED:20241202T115217Z
UID:29933-1736764200-1736767800@www.tsv-waldenbuch.de
SUMMARY:Aktiv älter werden
DESCRIPTION:Der Kurs aktiv älter werden findet außerhalb der Schulferien statt. \n
URL:https://www.tsv-waldenbuch.de/termin/aktiv-aelter-werden-2/2025-01-13/
CATEGORIES:Gesund & Fit Kurse
END:VEVENT
END:VCALENDAR