BEGIN:VCALENDAR
VERSION:2.0
PRODID:-//TSV Waldenbuch 1891 e.V. - ECPv4.6.15//NONSGML v1.0//EN
CALSCALE:GREGORIAN
METHOD:PUBLISH
X-WR-CALNAME:TSV Waldenbuch 1891 e.V.
X-ORIGINAL-URL:https://www.tsv-waldenbuch.de
X-WR-CALDESC:Veranstaltungen für TSV Waldenbuch 1891 e.V.
BEGIN:VEVENT
DTSTART;TZID=Europe/Berlin:20221013T193000
DTEND;TZID=Europe/Berlin:20221013T213000
DTSTAMP:20260420T140911
CREATED:20221001T115435Z
LAST-MODIFIED:20221001T115435Z
UID:23777-1665689400-1665696600@www.tsv-waldenbuch.de
SUMMARY:Auswärtsspiel Donnerstag 13.10.2022 in Weil im Schönbuch (1. Mannschaft)
DESCRIPTION:Am Donnerstag Abend 13.10.2022 wird das verlegte Spiel unserer 1. Mannschaft in Weil nachgeholt. \n19:30 Uhr: Spvgg Weil im Schönbuch – TSV Waldenbuch\n \nUnsere Jungs würden sich über eine zahlreiche Unterstützung im Lokalderby freuen. \n
URL:https://www.tsv-waldenbuch.de/termin/auswaertsspiel-donnerstag-13-10-2022-in-weil-im-schoenbuch-1-mannschaft/
CATEGORIES:Fußball
END:VEVENT
END:VCALENDAR