BEGIN:VCALENDAR
VERSION:2.0
PRODID:-//TSV Waldenbuch 1891 e.V. - ECPv4.6.15//NONSGML v1.0//EN
CALSCALE:GREGORIAN
METHOD:PUBLISH
X-WR-CALNAME:TSV Waldenbuch 1891 e.V.
X-ORIGINAL-URL:https://www.tsv-waldenbuch.de
X-WR-CALDESC:Veranstaltungen für TSV Waldenbuch 1891 e.V.
BEGIN:VEVENT
DTSTART;TZID=Europe/Berlin:20240901T130000
DTEND;TZID=Europe/Berlin:20240901T170000
DTSTAMP:20260422T100806
CREATED:20240819T182041Z
LAST-MODIFIED:20240819T182041Z
UID:28864-1725195600-1725210000@www.tsv-waldenbuch.de
SUMMARY:Auswärtsspiel Sonntag 01.09.2024 in Aidlingen
DESCRIPTION:\n\nAm Sonntag 01. September starten unsere beiden Aktiven-Teams in die neue Saison 2024/2025. \nWie im letzten Jahr erfolgt der Auftakt in die neue Saison wieder auswärts und wieder gegen Aidlingen. \n13:00 Uhr: Spvgg Aidlingen II – TSV Waldenbuch II \n15:00 Uhr: Spvgg Aidlingen– TSV Waldenbuch \nEin Ergebnis wie in der letzten Saison\, als beide Teams einen Punkt mitnehmen konnten\, wäre auch jetzt der passende Auftakt. \nWir würden uns über eine zahlreiche Unterstützung der Waldenbucher Fans freuen. \n\n\n
URL:https://www.tsv-waldenbuch.de/termin/auswaertsspiel-sonntag-01-09-2024-in-aidlingen/
CATEGORIES:Fußball
END:VEVENT
END:VCALENDAR