BEGIN:VCALENDAR
VERSION:2.0
PRODID:-//TSV Waldenbuch 1891 e.V. - ECPv4.6.15//NONSGML v1.0//EN
CALSCALE:GREGORIAN
METHOD:PUBLISH
X-WR-CALNAME:TSV Waldenbuch 1891 e.V.
X-ORIGINAL-URL:https://www.tsv-waldenbuch.de
X-WR-CALDESC:Veranstaltungen für TSV Waldenbuch 1891 e.V.
BEGIN:VEVENT
DTSTART;TZID=Europe/Berlin:20241103T143000
DTEND;TZID=Europe/Berlin:20241103T163000
DTSTAMP:20260420T080123
CREATED:20241029T090547Z
LAST-MODIFIED:20241029T090547Z
UID:29230-1730644200-1730651400@www.tsv-waldenbuch.de
SUMMARY:Auswärtsspiel Sonntag 03.11.2024 in Sindelfingen
DESCRIPTION:\n\nAm Sonntag 03. November spielt unsere 1. Mannschaft auswärts gegen den VfL Sindelfingen II.\n \n14:30 Uhr: VfL Sindelfingen II – TSV Waldenbuch\n \nTSV Waldenbuch II hat erneut spielfrei\n \nDie 2. Mannschaft des Landesligisten VfL Sinderlfingen und der TSV Waldenbuch liegen beide aktuell im Mittelfeld der Tabelle. \nWir hoffen natürlich dass unsere Jungs an die zuletzt erfolgreichen Spiele anknüpfen können. \nEine zahlreiche Unterstützung der Waldenbucher Fans dürfte sehr hilfreich sein. \nBitte beachten: Spielbeginn ab November wieder eine halbe Stunde früher. \n\n\n
URL:https://www.tsv-waldenbuch.de/termin/auswaertsspiel-sonntag-03-11-2024-in-sindelfingen/
CATEGORIES:Fußball
END:VEVENT
END:VCALENDAR