BEGIN:VCALENDAR
VERSION:2.0
PRODID:-//TSV Waldenbuch 1891 e.V. - ECPv4.6.15//NONSGML v1.0//EN
CALSCALE:GREGORIAN
METHOD:PUBLISH
X-WR-CALNAME:TSV Waldenbuch 1891 e.V.
X-ORIGINAL-URL:https://www.tsv-waldenbuch.de
X-WR-CALDESC:Veranstaltungen für TSV Waldenbuch 1891 e.V.
BEGIN:VEVENT
DTSTART;TZID=Europe/Berlin:20231203T113000
DTEND;TZID=Europe/Berlin:20231203T160000
DTSTAMP:20260420T180625
CREATED:20231124T090830Z
LAST-MODIFIED:20231202T132812Z
UID:26618-1701603000-1701619200@www.tsv-waldenbuch.de
SUMMARY:Auswärtsspiel Sonntag 03.12.2023 in Weil im Schönbuch abgesagt
DESCRIPTION:\n\nWegen dem Wintereinbruch sind alle Fußballspiele am Wochenende abgesagt. \nIm letzten Spiel vor der Winterpause kommt es nochmals zum Lokalderby gegen die Sportvereinigung Weil.\n \nDie Spiele auf dem Kunstrasenplatz in Weil beginnen eine halbe Stunde früher als sonst. \n11:30 Uhr: SpVgg Weil im Schönbuch II – TSV Waldenbuch II\n \n14:00 Uhr: SpVgg Weil im Schönbuch – TSV Waldenbuch \nWir hoffen unsere Jungs können mit einem Erfolgserlebnis in die Winterpause gehen. \nEine zahlreiche Unterstützung der Waldenbucher Fans würde bestimmt helfen. \n  \n\n\n
URL:https://www.tsv-waldenbuch.de/termin/auswaertsspiel-sonntag-03-12-2023-in-weil-im-schoenbuch/
CATEGORIES:Fußball
END:VEVENT
END:VCALENDAR