BEGIN:VCALENDAR
VERSION:2.0
PRODID:-//TSV Waldenbuch 1891 e.V. - ECPv4.6.15//NONSGML v1.0//EN
CALSCALE:GREGORIAN
METHOD:PUBLISH
X-WR-CALNAME:TSV Waldenbuch 1891 e.V.
X-ORIGINAL-URL:https://www.tsv-waldenbuch.de
X-WR-CALDESC:Veranstaltungen für TSV Waldenbuch 1891 e.V.
BEGIN:VEVENT
DTSTART;TZID=Europe/Berlin:20260426T130000
DTEND;TZID=Europe/Berlin:20260426T170000
DTSTAMP:20260420T023824
CREATED:20260419T181733Z
LAST-MODIFIED:20260419T181733Z
UID:33487-1777208400-1777222800@www.tsv-waldenbuch.de
SUMMARY:Auswärtsspiel Sonntag 26.04.2026 in Deufringen
DESCRIPTION:Am Sonntag müssen unsere beiden Teams nach Deufringen reisen. \n13:00 Uhr : FSV Deufringen II – TSV Waldenbuch II \n15:00 Uhr : FSV Deufringen  – TSV Waldenbuch \nZuletzt zeigte die Formkurve beider Waldenbucher Mannschaften steil nach unten. \nUnsere Erste\, vor einigen Wochen noch alleiniger Tabellenzweiter\, ist jetzt auf Platz 6 zurückgefallen. Da kommt Deufringen\, jetzt Zweiter\, gerade recht\, wenn man mit einem Sieg gegen einen direkten Kontrahenten wieder Boden gut machen will. \nUnsere Zweite war bis vor 3 Spielen noch ungeschlagen\, hat aber die letzten 3 Spiele verloren. Wir hoffen auf eine Trendwende. \nFür Spannung ist in dieser Saison weiterhin gesorgt. Über eine zahlreiche Unterstützung unserer Fans würden sich unsere Spieler bestimmt freuen. \n
URL:https://www.tsv-waldenbuch.de/termin/auswaertsspiel-sonntag-26-04-2026-in-deufringen/
CATEGORIES:Fußball
END:VEVENT
END:VCALENDAR