BEGIN:VCALENDAR
VERSION:2.0
PRODID:-//TSV Waldenbuch 1891 e.V. - ECPv4.6.15//NONSGML v1.0//EN
CALSCALE:GREGORIAN
METHOD:PUBLISH
X-WR-CALNAME:TSV Waldenbuch 1891 e.V.
X-ORIGINAL-URL:https://www.tsv-waldenbuch.de
X-WR-CALDESC:Veranstaltungen für TSV Waldenbuch 1891 e.V.
BEGIN:VEVENT
DTSTART;TZID=Europe/Berlin:20250403T180000
DTEND;TZID=Europe/Berlin:20250403T190000
DTSTAMP:20260420T101925
CREATED:20250328T114445Z
LAST-MODIFIED:20250328T114445Z
UID:30915-1743703200-1743706800@www.tsv-waldenbuch.de
SUMMARY:Cross-Fitness-Training ab 3. April auf dem Multifunktionsplatz
DESCRIPTION:Unter dem Motto: “weniger Fett – mehr Muskeln” bietet unser Sport- und Fitnesstrainer Joachim Halverscheidt\, jeweils donnerstags von 18:00 bis 19:00 Uhr\, ab dem 3. April 2025 ein abwechslungsreiches\, hoch intensives und effektives Koordinations- und Krafttraining mit dem eigenen Körpergewicht an. Trainingsziel ist es weiterhin\, die Flexibilität und Elastizität der Muskeln nachhaltig zu verbessern. Die auf das Tennisspiel abgestimmten Übungen dienen auch dazu\, gestärkt in die Tennis-Sommersaison zu starten. Das Training findet auf dem Multifunktionsplatz auf unserer Tennisanlage statt\, die Regeln zum Betreten des Platzes (insbesondere gereinigte Schuhsohlen) sind zu beachten. Die Kosten pro Teilnahme belaufen sich auf 4 Euro. Anmeldungen sind möglich direkt bei Joachim Halverscheidt (E-Mail: halve@gmx.de\, mobil: 0172-7576419) oder an der Info-Tafel auf der Tennisanlage. \n
URL:https://www.tsv-waldenbuch.de/termin/cross-fitness-training-ab-3-april-auf-dem-multifunktionsplatz/
LOCATION:Teckstraße 24\, Waldenbuch\, 71111
GEO:48.6458582;9.152057
X-APPLE-STRUCTURED-LOCATION;VALUE=URI;X-ADDRESS=Teckstraße 24 Waldenbuch 71111;X-APPLE-RADIUS=500;X-TITLE=Teckstraße 24:geo:9.152057,48.6458582
CATEGORIES:Tennis
END:VEVENT
END:VCALENDAR