BEGIN:VCALENDAR
VERSION:2.0
PRODID:-//TSV Waldenbuch 1891 e.V. - ECPv4.6.15//NONSGML v1.0//EN
CALSCALE:GREGORIAN
METHOD:PUBLISH
X-WR-CALNAME:TSV Waldenbuch 1891 e.V.
X-ORIGINAL-URL:https://www.tsv-waldenbuch.de
X-WR-CALDESC:Veranstaltungen für TSV Waldenbuch 1891 e.V.
BEGIN:VEVENT
DTSTART;TZID=Europe/Berlin:20221127T120000
DTEND;TZID=Europe/Berlin:20221127T140000
DTSTAMP:20260423T083507
CREATED:20221002T185806Z
LAST-MODIFIED:20221002T185806Z
UID:23805-1669550400-1669557600@www.tsv-waldenbuch.de
SUMMARY:Damen 2 Auswärtsspiel in Mönsheim
DESCRIPTION:Die Damen laden herzliche zum Auswärtsspiel (Spiel 2) ein. Spielbeginn ca. 12 Uhr \n
URL:https://www.tsv-waldenbuch.de/termin/damen-2-auswaertsspiel-in-moensheim/
CATEGORIES:Volleyball
END:VEVENT
END:VCALENDAR