BEGIN:VCALENDAR
VERSION:2.0
PRODID:-//TSV Waldenbuch 1891 e.V. - ECPv4.6.15//NONSGML v1.0//EN
CALSCALE:GREGORIAN
METHOD:PUBLISH
X-WR-CALNAME:TSV Waldenbuch 1891 e.V.
X-ORIGINAL-URL:https://www.tsv-waldenbuch.de
X-WR-CALDESC:Veranstaltungen für TSV Waldenbuch 1891 e.V.
BEGIN:VEVENT
DTSTART;TZID=Europe/Berlin:20250221T190000
DTEND;TZID=Europe/Berlin:20250221T203000
DTSTAMP:20260420T113649
CREATED:20250203T092902Z
LAST-MODIFIED:20250203T093038Z
UID:30478-1740164400-1740169800@www.tsv-waldenbuch.de
SUMMARY:Einladung zur Abteilungsversammlung 2025 der Abteilung Leichtathletik
DESCRIPTION:Die Abteilungsversammlung findet statt am\nFreitag\, 21. Februar 2025 um 19 Uhr.\nVersammlungsort ist der Nebenraum des Geschäftszimmers des TSV\nWaldenbuch\, Echterdinger Str. 81\, 71111 Waldenbuch.\nDie Versammlung wird hiermit gemäß der Vereinssatzung bekannt gemacht.\nUnsere Mitglieder sind hierzu herzlich eingeladen.\nTagesordnung:\n1. Begrüßung\n2. Ehrungen\n3. Bericht der Abteilungsleitung\n4. Bericht der Kassenprüfenden\n5. Aussprache über die Berichte\n6. Entlastung der Abteilungsleitung\n7. Wahlen\n8. Termine 2025\n9. Anträge\n10. Verschiedenes \nAnträge sind bis spätestens Montag\, 17. Februar 2025 schriftlich bei der\nAbteilungsleitung (Abt. Leichtathletik\, TSV Waldenbuch 1891 e.V.\, Echterdinger\nStraße 81\, 71111 Waldenbuch) oder per E-Mail an leichtathletik@tsv-waldenbuch.de\neinzureichen. \nAbteilungsleitung\nAbteilung Leichtathletik\nTSV Waldenbuch 1891 e.V. \n
URL:https://www.tsv-waldenbuch.de/termin/einladung-zur-abteilungsversammlung-2025-der-abteilung-leichtathletik/
CATEGORIES:Leichtathletik
END:VEVENT
END:VCALENDAR