BEGIN:VCALENDAR
VERSION:2.0
PRODID:-//TSV Waldenbuch 1891 e.V. - ECPv4.6.15//NONSGML v1.0//EN
CALSCALE:GREGORIAN
METHOD:PUBLISH
X-WR-CALNAME:TSV Waldenbuch 1891 e.V.
X-ORIGINAL-URL:https://www.tsv-waldenbuch.de
X-WR-CALDESC:Veranstaltungen für TSV Waldenbuch 1891 e.V.
BEGIN:VEVENT
DTSTART;TZID=Europe/Berlin:20240223T190000
DTEND;TZID=Europe/Berlin:20240223T213000
DTSTAMP:20260420T164457
CREATED:20231120T135054Z
LAST-MODIFIED:20240206T174846Z
UID:26596-1708714800-1708723800@www.tsv-waldenbuch.de
SUMMARY:Einladung zur Abteilungsversammlung Leichtathletik 2024
DESCRIPTION:Unsere Abteilungsversammlung findet am\nFreitag\, dem 23. Februar 2024 um 19:00 Uhr im Gymnastikraum des TSV Waldenbuch\, Echterdinger Str. 81\, Waldenbuch statt.\nDie Versammlung wird hiermit gem. der Vereinssatzung bekannt gemacht.\nUnsere Mitglieder sind hierzu freundlich eingeladen.\nTagesordnung:\n1. Begrüßung\n2. Bericht der Abteilungsleitung\n3. Bericht der Kassenprüfer\n4. Aussprache über die Berichte\n5. Entlastung der Abteilungsleitung\n6. Ehrungen\n7. Neuwahlen\n8. Termine 2024\n9. Anträge\n10. Verschiedenes \nAnträge sind bis spätestens zum 19. Februar 2024 schriftlich an den Abteilungsleiter Bernhard Schmitt\, Goethestr. 9\, 7111 Waldenbuch\, oder per Mail an: bernhard.schmitt@tsv-waldenbuch.de einzureichen.\nBernhard Schmitt\nAbteilungsleiter Leichtathletik\nTSV Waldenbuch 1891 e.V. \n
URL:https://www.tsv-waldenbuch.de/termin/einladung-zur-abteilungsversammlung-leichtathletik-2024/
LOCATION:Echterdinger Str. 81\, Waldenbuch\, 71111
GEO:48.6459556;9.1381457
X-APPLE-STRUCTURED-LOCATION;VALUE=URI;X-ADDRESS=Echterdinger Str. 81 Waldenbuch 71111;X-APPLE-RADIUS=500;X-TITLE=Echterdinger Str. 81:geo:9.1381457,48.6459556
CATEGORIES:Leichtathletik
ATTACH;FMTTYPE=image/jpeg:https://www.tsv-waldenbuch.de/wp-content/uploads/2023/11/Leichtatletik3.jpg
END:VEVENT
END:VCALENDAR