BEGIN:VCALENDAR
VERSION:2.0
PRODID:-//TSV Waldenbuch 1891 e.V. - ECPv4.6.15//NONSGML v1.0//EN
CALSCALE:GREGORIAN
METHOD:PUBLISH
X-WR-CALNAME:TSV Waldenbuch 1891 e.V.
X-ORIGINAL-URL:https://www.tsv-waldenbuch.de
X-WR-CALDESC:Veranstaltungen für TSV Waldenbuch 1891 e.V.
BEGIN:VEVENT
DTSTART;VALUE=DATE:20250719
DTEND;VALUE=DATE:20250720
DTSTAMP:20260422T112704
CREATED:20250114T194835Z
LAST-MODIFIED:20250114T194835Z
UID:30339-1752883200-1752969599@www.tsv-waldenbuch.de
SUMMARY:Gaufinale Gerätturnen P-Stufen männlich
DESCRIPTION:\n	
URL:https://www.tsv-waldenbuch.de/termin/gaufinale-geraetturnen-p-stufen-maennlich/
CATEGORIES:Turnen
END:VEVENT
END:VCALENDAR