BEGIN:VCALENDAR
VERSION:2.0
PRODID:-//TSV Waldenbuch 1891 e.V. - ECPv4.6.15//NONSGML v1.0//EN
CALSCALE:GREGORIAN
METHOD:PUBLISH
X-WR-CALNAME:TSV Waldenbuch 1891 e.V.
X-ORIGINAL-URL:https://www.tsv-waldenbuch.de
X-WR-CALDESC:Veranstaltungen für TSV Waldenbuch 1891 e.V.
BEGIN:VEVENT
DTSTART;TZID=Europe/Berlin:20231010T190000
DTEND;TZID=Europe/Berlin:20231010T210000
DTSTAMP:20260422T114144
CREATED:20231004T153316Z
LAST-MODIFIED:20231004T153316Z
UID:26328-1696964400-1696971600@www.tsv-waldenbuch.de
SUMMARY:Heimspiel Dienstag 10.10.2023 gegen TSV Schönaich (2. Mannschaft)
DESCRIPTION:\n\n\n\nAm Dienstag 10. Oktober spielt unsere 2. Mannschaft gegen die 2. Mannschaft von Schönaich. \n19:00 Uhr : TSV Waldenbuch II –  TSV Schönaich II\n \nDa die 2. Mannschaft von Schönaich die letzten Jahre in einer anderen Staffel der Kreisliga B gespielt hat\, fehlen uns hier Vergleiche zu Vorjahren. Der aktuellen Tabelle nach  sind beide Teams etwa gleichstark einzuschätzen. \nÜber eine zahlreiche Unterstützung unseres Teams würden wir uns sehr freuen. \nDas Spiel findet wegen dem Flutlicht auf dem Kunstrasenplatz Hasenhof statt. \n\n\n\n\n
URL:https://www.tsv-waldenbuch.de/termin/heimspiel-dienstag-10-10-2023-gegen-tsv-schoenaich-2-mannschaft/
LOCATION:Teckstraße\, Waldenbuch\, 71111
GEO:48.6460794;9.1517587
X-APPLE-STRUCTURED-LOCATION;VALUE=URI;X-ADDRESS=Teckstraße Waldenbuch 71111;X-APPLE-RADIUS=500;X-TITLE=Teckstraße:geo:9.1517587,48.6460794
CATEGORIES:Fußball
END:VEVENT
END:VCALENDAR