BEGIN:VCALENDAR
VERSION:2.0
PRODID:-//TSV Waldenbuch 1891 e.V. - ECPv4.6.15//NONSGML v1.0//EN
CALSCALE:GREGORIAN
METHOD:PUBLISH
X-WR-CALNAME:TSV Waldenbuch 1891 e.V.
X-ORIGINAL-URL:https://www.tsv-waldenbuch.de
X-WR-CALDESC:Veranstaltungen für TSV Waldenbuch 1891 e.V.
BEGIN:VEVENT
DTSTART;TZID=Europe/Berlin:20231005T193000
DTEND;TZID=Europe/Berlin:20231005T213000
DTSTAMP:20260420T101954
CREATED:20230927T090035Z
LAST-MODIFIED:20230927T090035Z
UID:26269-1696534200-1696541400@www.tsv-waldenbuch.de
SUMMARY:Heimspiel Donnerstag 05.10.2023 gegen TV Nebringen
DESCRIPTION:\n\n\n\nAm Donnerstag 05. Oktober spielt unsere 1. Mannschaft in einem Nachholspiel gegen die 1. Mannschaft des  TVNebringen. \n19:30 Uhr : TSV Waldenbuch –  TV Nebringen\n \nNebringen ist nicht zu unterschätzen und hat nur einen Punkt weniger als Waldenbuch. Der Gewinner des Spiels kann den Anschluss an die Spitze der Kreisliga A wahren. \nÜber eine zahlreiche Unterstützung unseres Teams würden wir uns sehr freuen. \nDas Spiel findet wegen dem Flutlicht auf dem Kunstrasenplatz Hasenhof statt. \n\n\n\n\n
URL:https://www.tsv-waldenbuch.de/termin/heimspiel-donnerstag-05-10-2023-gegen-tv-nebringen/
LOCATION:Teckstraße\, Waldenbuch\, 71111
GEO:48.6460794;9.1517587
X-APPLE-STRUCTURED-LOCATION;VALUE=URI;X-ADDRESS=Teckstraße Waldenbuch 71111;X-APPLE-RADIUS=500;X-TITLE=Teckstraße:geo:9.1517587,48.6460794
CATEGORIES:Fußball
END:VEVENT
END:VCALENDAR