BEGIN:VCALENDAR
VERSION:2.0
PRODID:-//TSV Waldenbuch 1891 e.V. - ECPv4.6.15//NONSGML v1.0//EN
CALSCALE:GREGORIAN
METHOD:PUBLISH
X-WR-CALNAME:TSV Waldenbuch 1891 e.V.
X-ORIGINAL-URL:https://www.tsv-waldenbuch.de
X-WR-CALDESC:Veranstaltungen für TSV Waldenbuch 1891 e.V.
BEGIN:VEVENT
DTSTART;TZID=Europe/Berlin:20221203T120000
DTEND;TZID=Europe/Berlin:20221203T163000
DTSTAMP:20260420T113440
CREATED:20221120T095232Z
LAST-MODIFIED:20221120T095232Z
UID:24100-1670068800-1670085000@www.tsv-waldenbuch.de
SUMMARY:Heimspiel Samstag 03.12.2022 gegen Altdorf
DESCRIPTION:\n\n\n\n\nAm Donnerstag 03. Dezember ist die 1. und 2. Mannschaft des TV Altdorf bei uns zu Gast. \n12:00 Uhr : TSV Waldenbuch II –  TV Altdorf II\n \n14:30 Uhr : TSV Waldenbuch I –  TV Altdorf I \nDie Spiele finden auf dem Kunstrasenplatz Hasenhof statt. \nÜber eine zahlreiche Unterstützung unserer Mannschaften würden wir uns freuen. \n\n\n\n\n\n
URL:https://www.tsv-waldenbuch.de/termin/heimspiel-samstag-03-12-2022-gegen-altdorf/
LOCATION:Teckstraße\, Waldenbuch\, 71111
GEO:48.6460794;9.1517587
X-APPLE-STRUCTURED-LOCATION;VALUE=URI;X-ADDRESS=Teckstraße Waldenbuch 71111;X-APPLE-RADIUS=500;X-TITLE=Teckstraße:geo:9.1517587,48.6460794
CATEGORIES:Fußball
END:VEVENT
END:VCALENDAR