BEGIN:VCALENDAR
VERSION:2.0
PRODID:-//TSV Waldenbuch 1891 e.V. - ECPv4.6.15//NONSGML v1.0//EN
CALSCALE:GREGORIAN
METHOD:PUBLISH
X-WR-CALNAME:TSV Waldenbuch 1891 e.V.
X-ORIGINAL-URL:https://www.tsv-waldenbuch.de
X-WR-CALDESC:Veranstaltungen für TSV Waldenbuch 1891 e.V.
BEGIN:VEVENT
DTSTART;TZID=Europe/Berlin:20230903T123000
DTEND;TZID=Europe/Berlin:20230903T170000
DTSTAMP:20260420T101959
CREATED:20230824T154610Z
LAST-MODIFIED:20230824T154610Z
UID:26100-1693744200-1693760400@www.tsv-waldenbuch.de
SUMMARY:Heimspiel Sonntag 03.09.2023 gegen Grafenau
DESCRIPTION:\nZum 1. Heimspiel in der neuen Saison 2023/24 empfangen wir am Sonntag den 3. September die \n1. und 2. Mannschaft des TSV Grafenau. \n12:30 Uhr : TSV Waldenbuch II –  TSV Grafenau II\n \n15:00 Uhr : TSV Waldenbuch I –   TSV Grafenau I \nIn der letzten Saison konnte unsere 1. Mannschaft gegen die Grafenauer leider keine Punkte einfahren. \nMit einer zahlreichen Unterstützung unserer Zuschauer hoffen wir hier auf eine Verbesserung. \nDie Spiele finden im Ritter-Sport-Stadion statt. \n\n
URL:https://www.tsv-waldenbuch.de/termin/heimspiel-sonntag-03-09-2023-gegen-grafenau/
LOCATION:Echterdinger Str. 81\, Waldenbuch\, 71111
GEO:48.6459556;9.1381457
X-APPLE-STRUCTURED-LOCATION;VALUE=URI;X-ADDRESS=Echterdinger Str. 81 Waldenbuch 71111;X-APPLE-RADIUS=500;X-TITLE=Echterdinger Str. 81:geo:9.1381457,48.6459556
CATEGORIES:Fußball
END:VEVENT
END:VCALENDAR