BEGIN:VCALENDAR
VERSION:2.0
PRODID:-//TSV Waldenbuch 1891 e.V. - ECPv4.6.15//NONSGML v1.0//EN
CALSCALE:GREGORIAN
METHOD:PUBLISH
X-WR-CALNAME:TSV Waldenbuch 1891 e.V.
X-ORIGINAL-URL:https://www.tsv-waldenbuch.de
X-WR-CALDESC:Veranstaltungen für TSV Waldenbuch 1891 e.V.
BEGIN:VEVENT
DTSTART;TZID=Europe/Berlin:20201004T123000
DTEND;TZID=Europe/Berlin:20201004T170000
DTSTAMP:20260424T095426
CREATED:20200914T165929Z
LAST-MODIFIED:20200925T190653Z
UID:18690-1601814600-1601830800@www.tsv-waldenbuch.de
SUMMARY:Heimspiel Sonntag 04.10.2020
DESCRIPTION:3. Heimspiel der Saison 2020/21 am 04.10.2020 \n12:30 Uhr:  TSV Waldenbuch II – TSV Grafenau II \n15:00 Uhr:  TSV Waldenbuch I – TSV Grafenau I \n
URL:https://www.tsv-waldenbuch.de/termin/heimspiel-sonntag-04-10-2020/
CATEGORIES:Fußball
END:VEVENT
END:VCALENDAR