BEGIN:VCALENDAR
VERSION:2.0
PRODID:-//TSV Waldenbuch 1891 e.V. - ECPv4.6.15//NONSGML v1.0//EN
CALSCALE:GREGORIAN
METHOD:PUBLISH
X-WR-CALNAME:TSV Waldenbuch 1891 e.V.
X-ORIGINAL-URL:https://www.tsv-waldenbuch.de
X-WR-CALDESC:Veranstaltungen für TSV Waldenbuch 1891 e.V.
BEGIN:VEVENT
DTSTART;TZID=Europe/Berlin:20230910T123000
DTEND;TZID=Europe/Berlin:20230910T170000
DTSTAMP:20260420T101332
CREATED:20230903T162904Z
LAST-MODIFIED:20230903T164450Z
UID:26112-1694349000-1694365200@www.tsv-waldenbuch.de
SUMMARY:Heimspiel Sonntag 10.09.2023 gegen Weil im Schönbuch
DESCRIPTION:\nAm Sonntag 10. September empfangen wir die 1. und 2. Mannschaft der SpVgg Weil im Schönbuch zum zweiten Heimspiel in der noch jungen Saison 2023/24. \n12:30 Uhr : TSV Waldenbuch II –  SpVgg Weil im Schönbuch II\n \n15:00 Uhr : TSV Waldenbuch I –   SpVgg Weil im Schönbuch I \nWie immer dürfte es zu einem spannenden Lokalderby kommen. Zudem treffen hier Vater und Sohn als Trainer aufeinander. \nÜber eine zahlreiche Unterstützung würden wir uns sehr freuen. \nDie Spiele finden im Ritter-Sport-Stadion statt. \n\n
URL:https://www.tsv-waldenbuch.de/termin/heimspiel-sonntag-10-09-2023-gegen-weil-im-schoenbuch/
LOCATION:Echterdinger Str. 81\, Waldenbuch\, 71111
GEO:48.6459556;9.1381457
X-APPLE-STRUCTURED-LOCATION;VALUE=URI;X-ADDRESS=Echterdinger Str. 81 Waldenbuch 71111;X-APPLE-RADIUS=500;X-TITLE=Echterdinger Str. 81:geo:9.1381457,48.6459556
CATEGORIES:Fußball
END:VEVENT
END:VCALENDAR