BEGIN:VCALENDAR
VERSION:2.0
PRODID:-//TSV Waldenbuch 1891 e.V. - ECPv4.6.15//NONSGML v1.0//EN
CALSCALE:GREGORIAN
METHOD:PUBLISH
X-WR-CALNAME:TSV Waldenbuch 1891 e.V.
X-ORIGINAL-URL:https://www.tsv-waldenbuch.de
X-WR-CALDESC:Veranstaltungen für TSV Waldenbuch 1891 e.V.
BEGIN:VEVENT
DTSTART;TZID=Europe/Berlin:20231112T120000
DTEND;TZID=Europe/Berlin:20231112T163000
DTSTAMP:20260422T084644
CREATED:20231104T092102Z
LAST-MODIFIED:20231104T092102Z
UID:26502-1699790400-1699806600@www.tsv-waldenbuch.de
SUMMARY:Heimspiel Sonntag 12.11.2023 gegen Altdorf
DESCRIPTION:\n\n\n\nAm Sonntag 12. November empfangen wir die 1. und 2. Mannschaft des TV Altdorf. \n12:00 Uhr : TSV Waldenbuch II – TV Altdorf II\n \n14:30 Uhr : TSV Waldenbuch I –   TV Altdorf\n \nUnsere 2. Mannschaft will ihre Position im vorderen Tabellendritten verteidigen. Gegen Altdorf\, derzeit noch Vorletzter\, sollten drei Punkte möglich sein. \nUnsere 1. Mannschaft dürfte es schwerer haben. Nach schlechtem Start geht die Formkurve in Altdorf eher nach oben im Gegenteil zu unserer Ersten\, die zuletzt keine Punkte mehr einfahren konnte. Dran bleiben ist die Devise. \nÜber eine zahlreiche Unterstützung würden wir uns sehr freuen. \nDie Spiele finden witterungsbedingt auf dem Kunstrasenplatz Hasenhof statt. \nZudem beginnen die Spiele jetzt wieder eine halbe Stunde früher. \n\n\n\n\n
URL:https://www.tsv-waldenbuch.de/termin/heimspiel-sonntag-12-11-2023-gegen-altdorf/
LOCATION:Teckstraße\, Waldenbuch\, 71111
GEO:48.6460794;9.1517587
X-APPLE-STRUCTURED-LOCATION;VALUE=URI;X-ADDRESS=Teckstraße Waldenbuch 71111;X-APPLE-RADIUS=500;X-TITLE=Teckstraße:geo:9.1517587,48.6460794
CATEGORIES:Fußball
END:VEVENT
END:VCALENDAR