BEGIN:VCALENDAR
VERSION:2.0
PRODID:-//TSV Waldenbuch 1891 e.V. - ECPv4.6.15//NONSGML v1.0//EN
CALSCALE:GREGORIAN
METHOD:PUBLISH
X-WR-CALNAME:TSV Waldenbuch 1891 e.V.
X-ORIGINAL-URL:https://www.tsv-waldenbuch.de
X-WR-CALDESC:Veranstaltungen für TSV Waldenbuch 1891 e.V.
BEGIN:VEVENT
DTSTART;TZID=Europe/Berlin:20201018T123000
DTEND;TZID=Europe/Berlin:20201018T170000
DTSTAMP:20260420T130433
CREATED:20201011T153900Z
LAST-MODIFIED:20201011T153900Z
UID:18880-1603024200-1603040400@www.tsv-waldenbuch.de
SUMMARY:Heimspiel Sonntag 18.10.2020
DESCRIPTION:\n4. Heimspiel der Saison 2020/21 am 18.10.2020 \n12:30 Uhr:  TSV Waldenbuch II – FC Untejettingen II \n15:00 Uhr:  TSV Waldenbuch I – FC Unterjettingen I \nBitte beachten: Wegen Pilzbefall des Rasens im Stadion finden die Heimspiele früher als geplant auf dem Kunstrasenplatz Hasenhof statt. \n\n
URL:https://www.tsv-waldenbuch.de/termin/heimspiel-sonntag-18-10-2020/
LOCATION:Teckstraße\, Waldenbuch\, 71111
GEO:48.6460794;9.1517587
X-APPLE-STRUCTURED-LOCATION;VALUE=URI;X-ADDRESS=Teckstraße Waldenbuch 71111;X-APPLE-RADIUS=500;X-TITLE=Teckstraße:geo:9.1517587,48.6460794
CATEGORIES:Fußball
END:VEVENT
END:VCALENDAR