BEGIN:VCALENDAR
VERSION:2.0
PRODID:-//TSV Waldenbuch 1891 e.V. - ECPv4.6.15//NONSGML v1.0//EN
CALSCALE:GREGORIAN
METHOD:PUBLISH
X-WR-CALNAME:TSV Waldenbuch 1891 e.V.
X-ORIGINAL-URL:https://www.tsv-waldenbuch.de
X-WR-CALDESC:Veranstaltungen für TSV Waldenbuch 1891 e.V.
BEGIN:VEVENT
DTSTART;TZID=Europe/Berlin:20231119T120000
DTEND;TZID=Europe/Berlin:20231119T163000
DTSTAMP:20260424T100600
CREATED:20231111T100948Z
LAST-MODIFIED:20231111T100948Z
UID:26541-1700395200-1700411400@www.tsv-waldenbuch.de
SUMMARY:Heimspiel Sonntag 19.11.2023 gegen Aidlingen
DESCRIPTION:\n\n\n\n\nAm Sonntag 19. November empfangen wir die 1. und 2. Mannschaft der Sportvereinigung Aidlingen. \nDie ist bereits das erste Spiel der Rückrunde und zugleich das letzte Heimspiel in diesem Jahr. Danach sind noch zwei Auswärtsspiele am 25.11. in Grafenau und am 03.12. in Weil. \n12:00 Uhr : TSV Waldenbuch II – SpVgg Aidlingen II\n \n14:30 Uhr : TSV Waldenbuch  –   SpVgg Aidlingen\n \nDie 1. Mannschaft von Aidlingen war aus der Bezirksliga abgestiegen und will den sofortigen Wiederaufstieg schaffen. Aidlingen spielt in der Spitzengruppe der Liga mit. Dem entsprechend schwer wird die Aufgabe für uns werden. \nÜber eine zahlreiche Unterstützung würden wir uns sehr freuen. \nDie Spiele finden auf dem Kunstrasenplatz Hasenhof statt. \nZudem beginnen die Spiele jetzt wieder eine halbe Stunde früher. \n\n\n\n\n\n
URL:https://www.tsv-waldenbuch.de/termin/heimspiel-sonntag-19-11-2023-gegen-aidlingen/
LOCATION:Teckstraße\, Waldenbuch\, 71111
GEO:48.6460794;9.1517587
X-APPLE-STRUCTURED-LOCATION;VALUE=URI;X-ADDRESS=Teckstraße Waldenbuch 71111;X-APPLE-RADIUS=500;X-TITLE=Teckstraße:geo:9.1517587,48.6460794
CATEGORIES:Fußball
END:VEVENT
END:VCALENDAR