BEGIN:VCALENDAR
VERSION:2.0
PRODID:-//TSV Waldenbuch 1891 e.V. - ECPv4.6.15//NONSGML v1.0//EN
CALSCALE:GREGORIAN
METHOD:PUBLISH
X-WR-CALNAME:TSV Waldenbuch 1891 e.V.
X-ORIGINAL-URL:https://www.tsv-waldenbuch.de
X-WR-CALDESC:Veranstaltungen für TSV Waldenbuch 1891 e.V.
BEGIN:VEVENT
DTSTART;TZID=Europe/Berlin:20251130T120000
DTEND;TZID=Europe/Berlin:20251130T163000
DTSTAMP:20260420T164453
CREATED:20251125T085817Z
LAST-MODIFIED:20251125T085817Z
UID:32538-1764504000-1764520200@www.tsv-waldenbuch.de
SUMMARY:Heimspiel Sonntag 30.11.2025 gegen Altdorf
DESCRIPTION:\n\n\n\n\nzum letzten Heimspiel in diesem Jahr empfangen wir die Mannschaften des TV Altdorf. \n12:00 Uhr : TSV Waldenbuch II –  TV Altdorf II\n \n14:30 Uhr : TSV Waldenbuch –   TV Altdorf \nNachdem am vergangenen Wochenende auf vielen Plätzen nicht gespielt werden konnte\, war dies auf dem erneuerten Kunstrasenplatz am Hasenhof kein Problem. Durch einen Sieg ist unsere Erste jetzt sogar bis auf 3 Punkte an den Spitzenreiter TSV Herrenberg herangerückt und hat 1 Punkt Vorsprung vor dem Dritten Altdorf. Daher kommte es jetzt am Sonntag zum Spitzenspiel um Platz 2. \nUnsere Zweite konnte letzten Sonntag auch gewinnen und ist in dieser Saison weiterhin ungeschlagen. Nur zu gerne will man dies beibehalten. \nFür Spannung ist gesorgt. Mit einer zahlreichen Unterstützung durch Waldenbucher Zuschauer spielt es sich nochmals besser. \nGespielt wird auf dem erneuerten Kunstrasenplatz Hasenhof. \n\n\n\n\n\n
URL:https://www.tsv-waldenbuch.de/termin/heimspiel-sonntag-30-11-2025-gegen-altdorf/
LOCATION:Teckstraße\, Waldenbuch\, 71111
GEO:48.6460794;9.1517587
X-APPLE-STRUCTURED-LOCATION;VALUE=URI;X-ADDRESS=Teckstraße Waldenbuch 71111;X-APPLE-RADIUS=500;X-TITLE=Teckstraße:geo:9.1517587,48.6460794
CATEGORIES:Fußball
END:VEVENT
END:VCALENDAR