BEGIN:VCALENDAR
VERSION:2.0
PRODID:-//TSV Waldenbuch 1891 e.V. - ECPv4.6.15//NONSGML v1.0//EN
CALSCALE:GREGORIAN
METHOD:PUBLISH
X-WR-CALNAME:TSV Waldenbuch 1891 e.V.
X-ORIGINAL-URL:https://www.tsv-waldenbuch.de
X-WR-CALDESC:Veranstaltungen für TSV Waldenbuch 1891 e.V.
BEGIN:VEVENT
DTSTART;TZID=Europe/Berlin:20240310T123000
DTEND;TZID=Europe/Berlin:20240310T170000
DTSTAMP:20260420T140828
CREATED:20240303T172225Z
LAST-MODIFIED:20240303T172225Z
UID:27404-1710073800-1710090000@www.tsv-waldenbuch.de
SUMMARY:Heimspiele Sonntag 10.03.2024 gegen Sindelfingen
DESCRIPTION:Am Sonntag den 10. März empfängt unsere 1. Mannschaft die 2. Mannschaft des Landesligisten VfL Sindelfingen. \nUnsere 2. Mannschaft spielt gegen NK Zagreb Sindelfingen. \n12:30 Uhr : TSV Waldenbuch II – NK Zagreb Sindelfingen\n \n15:00 Uhr : TSV Waldenbuch  –   VfL Sindelfingen II\n \nNach der Winterpause können unsere beiden Teams einen gelungenen Start in die 2. Saisonhälfte vermelden. \nBeide gewannen ihre Spiele in Nebringen. \nGegen die heutigen Gegner hatten unsere Teams in der Vorrunde jeweils Unentschieden gespielt. \nÜber eine zahlreiche Unterstützung würden wir uns sehr freuen. \nDie Spiele finden auf dem Kunstrasenplatz Hasenhof statt. \n  \n
URL:https://www.tsv-waldenbuch.de/termin/heimspiele-sonntag-10-03-2024-gegen-sindelfingen/
LOCATION:Teckstraße\, Waldenbuch\, 71111
GEO:48.6460794;9.1517587
X-APPLE-STRUCTURED-LOCATION;VALUE=URI;X-ADDRESS=Teckstraße Waldenbuch 71111;X-APPLE-RADIUS=500;X-TITLE=Teckstraße:geo:9.1517587,48.6460794
CATEGORIES:Fußball
END:VEVENT
END:VCALENDAR