BEGIN:VCALENDAR
VERSION:2.0
PRODID:-//TSV Waldenbuch 1891 e.V. - ECPv4.6.15//NONSGML v1.0//EN
CALSCALE:GREGORIAN
METHOD:PUBLISH
X-WR-CALNAME:TSV Waldenbuch 1891 e.V.
X-ORIGINAL-URL:https://www.tsv-waldenbuch.de
X-WR-CALDESC:Veranstaltungen für TSV Waldenbuch 1891 e.V.
BEGIN:VEVENT
DTSTART;TZID=Europe/Berlin:20250327T193000
DTEND;TZID=Europe/Berlin:20250327T210000
DTSTAMP:20260420T085855
CREATED:20241120T111053Z
LAST-MODIFIED:20250302T200311Z
UID:29502-1743103800-1743109200@www.tsv-waldenbuch.de
SUMMARY:Jahreshauptversammlung 2025
DESCRIPTION:Unsere diesjährige Jahreshauptversammlung findet am\nDonnerstag\, den 27. März 2025\, um 19.30 Uhr\nin der Stadionhalle\, Echterdinger Str. 81\, Waldenbuch statt. \nTAGESORDNUNG \n1. 	Begrüßung \n2. 	Totenehrung \n3. 	Berichte über das Vereinsjahr 2024 \n3.1 	Vorstand \n3.2 	Schatzmeister \n3.3 	Kassenprüfer \n4.	Aussprache über die Berichte \n5. 	Entlastungen über das Vereinsjahr 2024 \n6. 	Wahlen \n6.1 	Schatzmeister \n6.2 	Beisitzer Hauptausschuss \n6.3 	Ehrenrat \n6.4 	Kassenprüfer \n6.5 	Seniorenleiter  \n7. 	Behandlung von Anträgen \n8. 	Ehrungen \n9. 	Fragen und Anregungen \n10. 	Sonstiges \nAnträge zur Tagesordnung müssen bis spätestens 21. März 2025 beim 1.Vorsitzenden Karl Georg Martin\, TSV Waldenbuch 1891 e.V.\, Echterdinger Str. 81\, 71111 Waldenbuch\, schriftlich eingegangen sein. \n
URL:https://www.tsv-waldenbuch.de/termin/jahreshauptversammlung-2025/
LOCATION:Echterdinger Str. 81\, Waldenbuch\, 71111
CATEGORIES:Vorstand
END:VEVENT
END:VCALENDAR