BEGIN:VCALENDAR
VERSION:2.0
PRODID:-//TSV Waldenbuch 1891 e.V. - ECPv4.6.15//NONSGML v1.0//EN
CALSCALE:GREGORIAN
METHOD:PUBLISH
X-WR-CALNAME:TSV Waldenbuch 1891 e.V.
X-ORIGINAL-URL:https://www.tsv-waldenbuch.de
X-WR-CALDESC:Veranstaltungen für TSV Waldenbuch 1891 e.V.
BEGIN:VEVENT
DTSTART;TZID=Europe/Berlin:20260512T143000
DTEND;TZID=Europe/Berlin:20260512T163000
DTSTAMP:20260420T105549
CREATED:20260420T025819Z
LAST-MODIFIED:20260420T025819Z
UID:33499-1778596200-1778603400@www.tsv-waldenbuch.de
SUMMARY:Jump & Fun Anfänger und Fortgeschrittenen Kurs für Kinder ab 4 Jahren ab 28.04.2026
DESCRIPTION:Du willst fliegen\, springen\, hüpfen und dabei Action\, Spaß und Abwechslung haben? Dann bist Du bei uns genau richtig. \n\nDie Kindersportschule des TSV Waldenbuch bietet für alle Kinder ab 4 Jahren einen Jump & Fun Kurs an. \nInhalte\nGroßes Trampolin\, Minitrampolin und vieles mehr.\nDie Kinder lernen unter professioneller Anleitung Trampolinspringen.\nKein Wettkampfsport\, sondern Bewegungserfahrungen der Extraklasse \nTermine\nimmer dienstags vom 28.04.2026-14.07.2026 (10 Termine) \nGruppe   4-7 Jahre:   Dienstag 14.30 Uhr-15.30 Uhr\nGruppe ab 8 Jahren: Dienstag 15.30 Uhr-16.30 Uhr \nLeistungsniveau\nAnfänger/Fortgeschrittene \nTrainer\nHristos Bourgkoudis und Lena Groth \nTrainingsort\nStadionhalle\nEchterdinger Str.81\n71111 Waldenbuch \nKosten (10 Termine)\nTSV Mitglieder  100 Euro\nNichtmitglieder 125 Euro \nAnmeldung\nAnmeldeformular Jump&Fun ab 28.04.2026\nAnmeldungen bitte an die Geschäftsstelle oder direkt an\nkindersportschule-tsv-waldenbuch@gmx.de \n
URL:https://www.tsv-waldenbuch.de/termin/jump-fun-anfaenger-und-fortgeschrittenen-kurs-fuer-kinder-ab-4-jahren-ab-28-04-2026/2026-05-12/
LOCATION:Echterdinger Str. 81\, Waldenbuch\, 71111
CATEGORIES:Kindersportschule
ORGANIZER;CN="Kindersportschule":MAILTO:kindersportschule@tsv-waldenbuch.de
END:VEVENT
END:VCALENDAR