BEGIN:VCALENDAR
VERSION:2.0
PRODID:-//TSV Waldenbuch 1891 e.V. - ECPv4.6.15//NONSGML v1.0//EN
CALSCALE:GREGORIAN
METHOD:PUBLISH
X-WR-CALNAME:TSV Waldenbuch 1891 e.V.
X-ORIGINAL-URL:https://www.tsv-waldenbuch.de
X-WR-CALDESC:Veranstaltungen für TSV Waldenbuch 1891 e.V.
BEGIN:VEVENT
DTSTART;TZID=Europe/Berlin:20190531T083000
DTEND;TZID=Europe/Berlin:20190531T113000
DTSTAMP:20260419T140751
CREATED:20190523T094218Z
LAST-MODIFIED:20190523T094218Z
UID:14713-1559291400-1559302200@www.tsv-waldenbuch.de
SUMMARY:Keine Rücken-Fit Kurse am Brückentag
DESCRIPTION:Bedingt durch den Brückentag finden keine Rücken-Fit Kurse mit Merit statt.\nDieser Kurstermin wurde bereits bei der Planung berücksichtigt. \n
URL:https://www.tsv-waldenbuch.de/termin/keine-ruecken-fit-kurse-am-brueckentag/
LOCATION:Echterdinger Str. 81\, Waldenbuch\, 71111
GEO:48.6459556;9.1381457
X-APPLE-STRUCTURED-LOCATION;VALUE=URI;X-ADDRESS=Echterdinger Str. 81 Waldenbuch 71111;X-APPLE-RADIUS=500;X-TITLE=Echterdinger Str. 81:geo:9.1381457,48.6459556
CATEGORIES:Gesund & Fit,Gesund & Fit Kurse
END:VEVENT
END:VCALENDAR