BEGIN:VCALENDAR
VERSION:2.0
PRODID:-//TSV Waldenbuch 1891 e.V. - ECPv4.6.15//NONSGML v1.0//EN
CALSCALE:GREGORIAN
METHOD:PUBLISH
X-WR-CALNAME:TSV Waldenbuch 1891 e.V.
X-ORIGINAL-URL:https://www.tsv-waldenbuch.de
X-WR-CALDESC:Veranstaltungen für TSV Waldenbuch 1891 e.V.
BEGIN:VEVENT
DTSTART;TZID=Europe/Berlin:20240929T141500
DTEND;TZID=Europe/Berlin:20240929T171500
DTSTAMP:20260420T150702
CREATED:20240929T190052Z
LAST-MODIFIED:20240929T190052Z
UID:28994-1727619300-1727630100@www.tsv-waldenbuch.de
SUMMARY:Kreisliga B Frauen
DESCRIPTION:\n	
URL:https://www.tsv-waldenbuch.de/termin/kreisliga-b-frauen/
CATEGORIES:Turnen
END:VEVENT
END:VCALENDAR