BEGIN:VCALENDAR
VERSION:2.0
PRODID:-//TSV Waldenbuch 1891 e.V. - ECPv4.6.15//NONSGML v1.0//EN
CALSCALE:GREGORIAN
METHOD:PUBLISH
X-WR-CALNAME:TSV Waldenbuch 1891 e.V.
X-ORIGINAL-URL:https://www.tsv-waldenbuch.de
X-WR-CALDESC:Veranstaltungen für TSV Waldenbuch 1891 e.V.
BEGIN:VEVENT
DTSTART;TZID=Europe/Berlin:20240106T200000
DTEND;TZID=Europe/Berlin:20240106T230000
DTSTAMP:20260420T184601
CREATED:20231125T151314Z
LAST-MODIFIED:20231125T151314Z
UID:26627-1704571200-1704582000@www.tsv-waldenbuch.de
SUMMARY:Närrische Party
DESCRIPTION:Siebenmühlental-Hexen Musberg e.V. \n  \nEinlass:  \nBeginn: 20.00 Uhr \nAuftritt: kein Auftritt \n
URL:https://www.tsv-waldenbuch.de/termin/naerrische-party/
LOCATION:Turnerweg 4\, Musberg\, 70771\, Deutschland
CATEGORIES:Fasnet
ATTACH;FMTTYPE=image/png:https://www.tsv-waldenbuch.de/wp-content/uploads/2023/11/Bild-Siebenmühlental-Hexen.png
END:VEVENT
END:VCALENDAR