BEGIN:VCALENDAR
VERSION:2.0
PRODID:-//TSV Waldenbuch 1891 e.V. - ECPv4.6.15//NONSGML v1.0//EN
CALSCALE:GREGORIAN
METHOD:PUBLISH
X-WR-CALNAME:TSV Waldenbuch 1891 e.V.
X-ORIGINAL-URL:https://www.tsv-waldenbuch.de
X-WR-CALDESC:Veranstaltungen für TSV Waldenbuch 1891 e.V.
BEGIN:VEVENT
DTSTART;TZID=Europe/Berlin:20200816T170000
DTEND;TZID=Europe/Berlin:20200816T190000
DTSTAMP:20260420T111559
CREATED:20200806T101043Z
LAST-MODIFIED:20200806T101043Z
UID:18481-1597597200-1597604400@www.tsv-waldenbuch.de
SUMMARY:Pokalspiel Sonntag 16.08.2020  17:00 Uhr
DESCRIPTION:Nach dem coranabedingten Abbruch der letzten Saison startet jetzt die neue Saison 2020/21 wie gewohnt mit den ersten Spielen des Bezirkspokal. Waldenbuch nimmt mit beiden Mannschaften am Pokal teil. \nSonntag 16.08.2020  17:00 Uhr:  TSV Waldenbuch I – SV Oberjesingen I \nMittwoch 19.08.2020  19:00 Uhr:  TSV Waldenbuch II – SpVgg Holzgerlingen III \n
URL:https://www.tsv-waldenbuch.de/termin/pokalspiel-sonntag-16-08-2020-1700-uhr/
LOCATION:Echterdinger Str. 81\, Waldenbuch\, 71111
GEO:48.6459556;9.1381457
X-APPLE-STRUCTURED-LOCATION;VALUE=URI;X-ADDRESS=Echterdinger Str. 81 Waldenbuch 71111;X-APPLE-RADIUS=500;X-TITLE=Echterdinger Str. 81:geo:9.1381457,48.6459556
CATEGORIES:Fußball
END:VEVENT
END:VCALENDAR