BEGIN:VCALENDAR
VERSION:2.0
PRODID:-//TSV Waldenbuch 1891 e.V. - ECPv4.6.15//NONSGML v1.0//EN
CALSCALE:GREGORIAN
METHOD:PUBLISH
X-WR-CALNAME:TSV Waldenbuch 1891 e.V.
X-ORIGINAL-URL:https://www.tsv-waldenbuch.de
X-WR-CALDESC:Veranstaltungen für TSV Waldenbuch 1891 e.V.
BEGIN:VEVENT
DTSTART;TZID=Europe/Berlin:20250131T190000
DTEND;TZID=Europe/Berlin:20250131T233000
DTSTAMP:20260422T102439
CREATED:20250103T130602Z
LAST-MODIFIED:20250125T132051Z
UID:30245-1738350000-1738366200@www.tsv-waldenbuch.de
SUMMARY:Showtanzabend
DESCRIPTION:1.Narremzunft Jettingen e.V. 94 \nWilly-Dieterle-Halle \n \nEinlass: 19.30 Uhr \nBeginn: 20.00 Uhr \n \n  \n
URL:https://www.tsv-waldenbuch.de/termin/showtanzabend/
LOCATION:Heubergring 1\, Jettingen\, 71131\, Deutschland
CATEGORIES:Fasnet
END:VEVENT
END:VCALENDAR