BEGIN:VCALENDAR
VERSION:2.0
PRODID:-//TSV Waldenbuch 1891 e.V. - ECPv4.6.15//NONSGML v1.0//EN
CALSCALE:GREGORIAN
METHOD:PUBLISH
X-WR-CALNAME:TSV Waldenbuch 1891 e.V.
X-ORIGINAL-URL:https://www.tsv-waldenbuch.de
X-WR-CALDESC:Veranstaltungen für TSV Waldenbuch 1891 e.V.
BEGIN:VEVENT
DTSTART;TZID=Europe/Berlin:20240903T190000
DTEND;TZID=Europe/Berlin:20240903T200000
DTSTAMP:20260424T083633
CREATED:20240724T134214Z
LAST-MODIFIED:20240724T134214Z
UID:28728-1725390000-1725393600@www.tsv-waldenbuch.de
SUMMARY:Sommerferienprogramm Gesund & Fit
DESCRIPTION:2024 So-Ferienprogramm Inhalt \n2024 SoFerien-Handzeittel \n
URL:https://www.tsv-waldenbuch.de/termin/sommerferienprogramm-gesund-fit-5/2024-09-03/
LOCATION:Echterdinger Str. 81\, Waldenbuch\, 71111
CATEGORIES:Gesund & Fit
END:VEVENT
END:VCALENDAR