BEGIN:VCALENDAR
VERSION:2.0
PRODID:-//TSV Waldenbuch 1891 e.V. - ECPv4.6.15//NONSGML v1.0//EN
CALSCALE:GREGORIAN
METHOD:PUBLISH
X-WR-CALNAME:TSV Waldenbuch 1891 e.V.
X-ORIGINAL-URL:https://www.tsv-waldenbuch.de
X-WR-CALDESC:Veranstaltungen für TSV Waldenbuch 1891 e.V.
BEGIN:VEVENT
DTSTART;TZID=Europe/Berlin:20230801T190000
DTEND;TZID=Europe/Berlin:20230801T200000
DTSTAMP:20260420T164324
CREATED:20230717T100641Z
LAST-MODIFIED:20230717T100641Z
UID:25860-1690916400-1690920000@www.tsv-waldenbuch.de
SUMMARY:Sommerferienprogramm Gesund & Fit
DESCRIPTION:Sommerferien-Programm 23\, kompakt \n
URL:https://www.tsv-waldenbuch.de/termin/sommerferienprogramm-gesund-fit/2023-08-01/
LOCATION:Echterdinger Str. 81\, Waldenbuch\, 71111
CATEGORIES:Gesund & Fit
END:VEVENT
END:VCALENDAR