BEGIN:VCALENDAR
VERSION:2.0
PRODID:-//TSV Waldenbuch 1891 e.V. - ECPv4.6.15//NONSGML v1.0//EN
CALSCALE:GREGORIAN
METHOD:PUBLISH
X-WR-CALNAME:TSV Waldenbuch 1891 e.V.
X-ORIGINAL-URL:https://www.tsv-waldenbuch.de
X-WR-CALDESC:Veranstaltungen für TSV Waldenbuch 1891 e.V.
BEGIN:VEVENT
DTSTART;TZID=Europe/Berlin:20240904T150000
DTEND;TZID=Europe/Berlin:20240904T180000
DTSTAMP:20260424T083550
CREATED:20240807T084452Z
LAST-MODIFIED:20240807T084452Z
UID:28842-1725462000-1725472800@www.tsv-waldenbuch.de
SUMMARY:Start Rehasport
DESCRIPTION:Heute starten unsere Rehasportgruppen Rücken- und Halteapparat mit Gesine\, zur gewohnten Zeit um 15 – 16 und 17 Uhr\, nach der Sommerpause. \n
URL:https://www.tsv-waldenbuch.de/termin/start-rehasport/
LOCATION:Echterdinger Str. 81\, Waldenbuch\, 71111
CATEGORIES:Rehasport
END:VEVENT
END:VCALENDAR