BEGIN:VCALENDAR
VERSION:2.0
PRODID:-//TSV Waldenbuch 1891 e.V. - ECPv4.6.15//NONSGML v1.0//EN
CALSCALE:GREGORIAN
METHOD:PUBLISH
X-WR-CALNAME:TSV Waldenbuch 1891 e.V.
X-ORIGINAL-URL:https://www.tsv-waldenbuch.de
X-WR-CALDESC:Veranstaltungen für TSV Waldenbuch 1891 e.V.
BEGIN:VEVENT
DTSTART;TZID=Europe/Berlin:20200810T150000
DTEND;TZID=Europe/Berlin:20200810T163000
DTSTAMP:20260422T112448
CREATED:20200802T140712Z
LAST-MODIFIED:20200802T141434Z
UID:18467-1597071600-1597077000@www.tsv-waldenbuch.de
SUMMARY:Tennis-Schnuppertraining im Rahmen des Sommerferienprogramms
DESCRIPTION:Das Stadtjugendreferat organisiert alljährlich in Zusammenarbeit mit den Waldenbucher Vereinen ein Sommerferienprogramm. Dazu gehört am 10. August 2020 auch das Angebot eines Tennis-Schnuppertrainings für Kids und Jugendliche im Alter von 8 bis 14 Jahren. Anmeldungen erfolgen im Internet unter: www.waldenbuch.feripro.de \n
URL:https://www.tsv-waldenbuch.de/termin/tennis-schnuppertraining-im-rahmen-des-sommerferienprogramms/
LOCATION:Teckstraße 24\, Waldenbuch\, 71111
GEO:48.6458582;9.152057
X-APPLE-STRUCTURED-LOCATION;VALUE=URI;X-ADDRESS=Teckstraße 24 Waldenbuch 71111;X-APPLE-RADIUS=500;X-TITLE=Teckstraße 24:geo:9.152057,48.6458582
CATEGORIES:Tennis
END:VEVENT
END:VCALENDAR