BEGIN:VCALENDAR
VERSION:2.0
PRODID:-//TSV Waldenbuch 1891 e.V. - ECPv4.6.15//NONSGML v1.0//EN
CALSCALE:GREGORIAN
METHOD:PUBLISH
X-WR-CALNAME:TSV Waldenbuch 1891 e.V.
X-ORIGINAL-URL:https://www.tsv-waldenbuch.de
X-WR-CALDESC:Veranstaltungen für TSV Waldenbuch 1891 e.V.
BEGIN:VEVENT
DTSTART;TZID=Europe/Berlin:20250316T100000
DTEND;TZID=Europe/Berlin:20250316T180000
DTSTAMP:20260420T100319
CREATED:20250308T172705Z
LAST-MODIFIED:20250310T103753Z
UID:30695-1742119200-1742148000@www.tsv-waldenbuch.de
SUMMARY:U15w Heimspieltag in Waldenbuch
DESCRIPTION:Herzliche Einladung zum U15w Heimspieltag in der Sporthalle Hermannshalde in Waldenbuch. \nSpielbeginn ist um 10 Uhr. \nFür das leibliche Wohl wird bestens gesorgt sein. \n
URL:https://www.tsv-waldenbuch.de/termin/u15w-heimspieltag-in-waldenbuch/
CATEGORIES:Volleyball
END:VEVENT
END:VCALENDAR