BEGIN:VCALENDAR
VERSION:2.0
PRODID:-//TSV Waldenbuch 1891 e.V. - ECPv4.6.15//NONSGML v1.0//EN
CALSCALE:GREGORIAN
METHOD:PUBLISH
X-WR-CALNAME:TSV Waldenbuch 1891 e.V.
X-ORIGINAL-URL:https://www.tsv-waldenbuch.de
X-WR-CALDESC:Veranstaltungen für TSV Waldenbuch 1891 e.V.
BEGIN:VEVENT
DTSTART;TZID=Europe/Berlin:20190504T000000
DTEND;TZID=Europe/Berlin:20190504T000000
DTSTAMP:20260420T121624
CREATED:20190414T181510Z
LAST-MODIFIED:20190503T053115Z
UID:14334-1556928000-1556928000@www.tsv-waldenbuch.de
SUMMARY:U17w Spieltag in Nagold
DESCRIPTION:Unsere Mädchenmannschaft U17 spielt am 04. Mai in Nagold gegen VC Nagold 1 und 2\, ASV Horb und SV Böblingen. \n
URL:https://www.tsv-waldenbuch.de/termin/u17w-spieltag-in-waldenbuch/
CATEGORIES:Volleyball
END:VEVENT
END:VCALENDAR