BEGIN:VCALENDAR
VERSION:2.0
PRODID:-//TSV Waldenbuch 1891 e.V. - ECPv4.6.15//NONSGML v1.0//EN
CALSCALE:GREGORIAN
METHOD:PUBLISH
X-WR-CALNAME:TSV Waldenbuch 1891 e.V.
X-ORIGINAL-URL:https://www.tsv-waldenbuch.de
X-WR-CALDESC:Veranstaltungen für TSV Waldenbuch 1891 e.V.
BEGIN:VEVENT
DTSTART;VALUE=DATE:20231111
DTEND;VALUE=DATE:20231112
DTSTAMP:20260422T113141
CREATED:20231109T121441Z
LAST-MODIFIED:20231109T121441Z
UID:26536-1699660800-1699747199@www.tsv-waldenbuch.de
SUMMARY:Unser nächstes Auswärtsspiel in der Winterhallenrunde
DESCRIPTION:Damen 40\, Kreisstaffel 1: TC Weil im Schönbuch 1 – TA TSV Waldenbuch 1\nSa.\, 11.11.2023\, 16:00 Uhr \n
URL:https://www.tsv-waldenbuch.de/termin/unser-naechstes-auswaertsspiel-in-der-winterhallenrunde-2/
CATEGORIES:Tennis
END:VEVENT
END:VCALENDAR