BEGIN:VCALENDAR
VERSION:2.0
PRODID:-//TSV Waldenbuch 1891 e.V. - ECPv4.6.15//NONSGML v1.0//EN
CALSCALE:GREGORIAN
METHOD:PUBLISH
X-WR-CALNAME:TSV Waldenbuch 1891 e.V.
X-ORIGINAL-URL:https://www.tsv-waldenbuch.de
X-WR-CALDESC:Veranstaltungen für TSV Waldenbuch 1891 e.V.
BEGIN:VEVENT
DTSTART;VALUE=DATE:20231125
DTEND;VALUE=DATE:20231126
DTSTAMP:20260420T130801
CREATED:20231119T123647Z
LAST-MODIFIED:20231119T123647Z
UID:26578-1700870400-1700956799@www.tsv-waldenbuch.de
SUMMARY:Unser nächstes Heimspiel in der Winterhallenrunde
DESCRIPTION:Herren\, Kreisstaffel 1: TA TSV Waldenbuch 1 – TA SV Bondorf 1\nSa.\, 25.11.2023\, 16:00 Uhr \n
URL:https://www.tsv-waldenbuch.de/termin/unser-naechstes-heimspiel-in-der-winterhallenrunde-2/
LOCATION:Teckstraße 24\, Waldenbuch\, 71111
GEO:48.6458582;9.152057
X-APPLE-STRUCTURED-LOCATION;VALUE=URI;X-ADDRESS=Teckstraße 24 Waldenbuch 71111;X-APPLE-RADIUS=500;X-TITLE=Teckstraße 24:geo:9.152057,48.6458582
CATEGORIES:Tennis
END:VEVENT
END:VCALENDAR