BEGIN:VCALENDAR
VERSION:2.0
PRODID:-//TSV Waldenbuch 1891 e.V. - ECPv4.6.15//NONSGML v1.0//EN
CALSCALE:GREGORIAN
METHOD:PUBLISH
X-WR-CALNAME:TSV Waldenbuch 1891 e.V.
X-ORIGINAL-URL:https://www.tsv-waldenbuch.de
X-WR-CALDESC:Veranstaltungen für TSV Waldenbuch 1891 e.V.
BEGIN:VEVENT
DTSTART;VALUE=DATE:20231220
DTEND;VALUE=DATE:20231221
DTSTAMP:20260422T100713
CREATED:20231211T124813Z
LAST-MODIFIED:20231211T124813Z
UID:26787-1703030400-1703116799@www.tsv-waldenbuch.de
SUMMARY:Unser nächstes Heimspiel in der Winterhallenrunde
DESCRIPTION:Herren 70\, Staffelliga: TA TSV Waldenbuch 1 – STG Geroksruhe 1\nMi.\, 20.12.2023\, 09:00 Uhr \n  \n
URL:https://www.tsv-waldenbuch.de/termin/unser-naechstes-heimspiel-in-der-winterhallenrunde-3/
LOCATION:Teckstraße 24\, Waldenbuch\, 71111
GEO:48.6458582;9.152057
X-APPLE-STRUCTURED-LOCATION;VALUE=URI;X-ADDRESS=Teckstraße 24 Waldenbuch 71111;X-APPLE-RADIUS=500;X-TITLE=Teckstraße 24:geo:9.152057,48.6458582
CATEGORIES:Tennis
END:VEVENT
END:VCALENDAR