BEGIN:VCALENDAR
VERSION:2.0
PRODID:-//TSV Waldenbuch 1891 e.V. - ECPv4.6.15//NONSGML v1.0//EN
CALSCALE:GREGORIAN
METHOD:PUBLISH
X-WR-CALNAME:TSV Waldenbuch 1891 e.V.
X-ORIGINAL-URL:https://www.tsv-waldenbuch.de
X-WR-CALDESC:Veranstaltungen für TSV Waldenbuch 1891 e.V.
BEGIN:VEVENT
DTSTART;VALUE=DATE:20240217
DTEND;VALUE=DATE:20240218
DTSTAMP:20260420T152420
CREATED:20240210T155639Z
LAST-MODIFIED:20240210T155639Z
UID:27265-1708128000-1708214399@www.tsv-waldenbuch.de
SUMMARY:Unser nächstes Heimspiel in der Winterhallenrunde
DESCRIPTION:Damen 40\, Bezirksstaffel 2: TA TSV Waldenbuch 1 – SPG Haiterbach/Oberschwandorf/Rohrdorf 1\nSa.\, 17.02.2024\, 16:00 Uhr \n
URL:https://www.tsv-waldenbuch.de/termin/unser-naechstes-heimspiel-in-der-winterhallenrunde-5/
LOCATION:Teckstraße 24\, Waldenbuch\, 71111
GEO:48.6458582;9.152057
X-APPLE-STRUCTURED-LOCATION;VALUE=URI;X-ADDRESS=Teckstraße 24 Waldenbuch 71111;X-APPLE-RADIUS=500;X-TITLE=Teckstraße 24:geo:9.152057,48.6458582
CATEGORIES:Tennis
END:VEVENT
END:VCALENDAR