BEGIN:VCALENDAR
VERSION:2.0
PRODID:-//TSV Waldenbuch 1891 e.V. - ECPv4.6.15//NONSGML v1.0//EN
CALSCALE:GREGORIAN
METHOD:PUBLISH
X-WR-CALNAME:TSV Waldenbuch 1891 e.V.
X-ORIGINAL-URL:https://www.tsv-waldenbuch.de
X-WR-CALDESC:Veranstaltungen für TSV Waldenbuch 1891 e.V.
BEGIN:VEVENT
DTSTART;VALUE=DATE:20241026
DTEND;VALUE=DATE:20241027
DTSTAMP:20260420T162939
CREATED:20241018T144349Z
LAST-MODIFIED:20241018T144349Z
UID:29116-1729900800-1729987199@www.tsv-waldenbuch.de
SUMMARY:Unsere ersten Auswärtsspiele in der Winterhallenrunde
DESCRIPTION:Damen 40\, Kreisstaffel 1: TC BW Vaihingen-Rohr 1 – TA TSV Waldenbuch 2\n(Sa.\, 26.10.2024\, 17:00 Uhr) \nHerren 60\, Bezirksstaffel 1: TC Schönaich 2 – TA TSV Waldenbuch 1\n(Sa.\, 26.10.2024\, 18:00 Uhr) \n
URL:https://www.tsv-waldenbuch.de/termin/unsere-ersten-auswaertsspiele-in-der-winterhallenrunde/
CATEGORIES:Tennis
END:VEVENT
END:VCALENDAR