BEGIN:VCALENDAR
VERSION:2.0
PRODID:-//TSV Waldenbuch 1891 e.V. - ECPv4.6.15//NONSGML v1.0//EN
CALSCALE:GREGORIAN
METHOD:PUBLISH
X-WR-CALNAME:TSV Waldenbuch 1891 e.V.
X-ORIGINAL-URL:https://www.tsv-waldenbuch.de
X-WR-CALDESC:Veranstaltungen für TSV Waldenbuch 1891 e.V.
BEGIN:VEVENT
DTSTART;VALUE=DATE:20200801
DTEND;VALUE=DATE:20200802
DTSTAMP:20260420T101921
CREATED:20200727T120324Z
LAST-MODIFIED:20200727T120324Z
UID:18387-1596240000-1596326399@www.tsv-waldenbuch.de
SUMMARY:Unsere letzten Termine in der WTB-Wettspielrunde
DESCRIPTION:Damen 40\, Bezirksklasse 1: SpVgg Weil der Stadt 1 – TSV 1\n(Samstag\, 01.08.\, 14:00 Uhr) \nHerren 40\, Bezirksklasse 2: SV Bondorf 1 – TSV 2\n(Samstag\, 01.08.\, 14:00 Uhr) \n
URL:https://www.tsv-waldenbuch.de/termin/unsere-letzten-termine-in-der-wtb-wettspielrunde/
CATEGORIES:Tennis
END:VEVENT
END:VCALENDAR