BEGIN:VCALENDAR
VERSION:2.0
PRODID:-//TSV Waldenbuch 1891 e.V. - ECPv4.6.15//NONSGML v1.0//EN
CALSCALE:GREGORIAN
METHOD:PUBLISH
X-WR-CALNAME:TSV Waldenbuch 1891 e.V.
X-ORIGINAL-URL:https://www.tsv-waldenbuch.de
X-WR-CALDESC:Veranstaltungen für TSV Waldenbuch 1891 e.V.
BEGIN:VEVENT
DTSTART;VALUE=DATE:20230722
DTEND;VALUE=DATE:20230724
DTSTAMP:20260424T083843
CREATED:20230716T122312Z
LAST-MODIFIED:20230716T122312Z
UID:25857-1689984000-1690156799@www.tsv-waldenbuch.de
SUMMARY:Unsere nächsten Auswärtsspiele in der Sommersaison
DESCRIPTION:Herren 50\, Bezirksoberliga: TC Heimsheim 1 – TSV Waldenbuch 2\n(Sa.\, 22.07.2023\, 14:00 Uhr) \nHerren 60\, Oberliga: TC Königsbronn 1 – TSV Waldenbuch 1\n(Sa.\, 22.07.2023\, 14:00 Uhr) \nDamen 40\, Bezirksoberliga: SPG Spfr/tus Stuttgart 1 – TSV Waldenbuch 1\n(Sa.\, 22.07.2023\, 14:00 Uhr) \nDamen 50\, Bezirksoberliga: SV Holzgerlingen 1 – TSV Waldenbuch 1\n(Sa.\, 22.07.2023\, 14:00 Uhr) \nDamen\, Bezirksliga: TC BW Vaihingen-Rohr 3 – TSV Waldenbuch 1\n(So.\, 23.07.2023\, 10:00 Uhr) \n
URL:https://www.tsv-waldenbuch.de/termin/unsere-naechsten-auswaertsspiele-in-der-sommersaison-16/
CATEGORIES:Tennis
END:VEVENT
END:VCALENDAR