BEGIN:VCALENDAR
VERSION:2.0
PRODID:-//TSV Waldenbuch 1891 e.V. - ECPv4.6.15//NONSGML v1.0//EN
CALSCALE:GREGORIAN
METHOD:PUBLISH
X-WR-CALNAME:TSV Waldenbuch 1891 e.V.
X-ORIGINAL-URL:https://www.tsv-waldenbuch.de
X-WR-CALDESC:Veranstaltungen für TSV Waldenbuch 1891 e.V.
BEGIN:VEVENT
DTSTART;VALUE=DATE:20250802
DTEND;VALUE=DATE:20250803
DTSTAMP:20260424T121459
CREATED:20250721T162120Z
LAST-MODIFIED:20250726T112243Z
UID:31766-1754092800-1754179199@www.tsv-waldenbuch.de
SUMMARY:Unser nächstes Auswärtsspiel in der Sommersaison 2025:
DESCRIPTION:Hobby Staffel Damen Samstagsrunde: TA TSV Neuhengstett 1 – TA TSV Waldenbuch 1\n(Sa.\, 02.08.2025\, 14:00 Uhr) \n
URL:https://www.tsv-waldenbuch.de/termin/unsere-naechsten-auswaertsspiele-in-der-sommersaison-2025-2/
CATEGORIES:Tennis
END:VEVENT
END:VCALENDAR