BEGIN:VCALENDAR
VERSION:2.0
PRODID:-//TSV Waldenbuch 1891 e.V. - ECPv4.6.15//NONSGML v1.0//EN
CALSCALE:GREGORIAN
METHOD:PUBLISH
X-WR-CALNAME:TSV Waldenbuch 1891 e.V.
X-ORIGINAL-URL:https://www.tsv-waldenbuch.de
X-WR-CALDESC:Veranstaltungen für TSV Waldenbuch 1891 e.V.
BEGIN:VEVENT
DTSTART;VALUE=DATE:20251206
DTEND;VALUE=DATE:20251208
DTSTAMP:20260420T142623
CREATED:20251130T121558Z
LAST-MODIFIED:20251130T121558Z
UID:32550-1764979200-1765151999@www.tsv-waldenbuch.de
SUMMARY:Unsere nächsten Auswärtsspiele in der Winterhallenrunde
DESCRIPTION:Herren 50\, Bezirksstaffel 1: TC Weil im Schönbuch 1 – TA TSV Waldenbuch 2\n(Sa.\, 06.12.2025\, 18:00 Uhr) \nDamen 50\, Kreisstaffel 1: TSC Renningen 1 – TA TSV Waldenbuch 2\n(Sa.\, 06.12.2025\, 18:00 Uhr) \nJuniorinnen U15\, Bezirksstaffel 2: TC Weil im Schönbuch 1 – TA TSV Waldenbuch 1\n(So.\, 07.12.2025\, 13:00 Uhr) \n
URL:https://www.tsv-waldenbuch.de/termin/unsere-naechsten-auswaertsspiele-in-der-winterhallenrunde-14/
CATEGORIES:Tennis
END:VEVENT
END:VCALENDAR