BEGIN:VCALENDAR
VERSION:2.0
PRODID:-//TSV Waldenbuch 1891 e.V. - ECPv4.6.15//NONSGML v1.0//EN
CALSCALE:GREGORIAN
METHOD:PUBLISH
X-WR-CALNAME:TSV Waldenbuch 1891 e.V.
X-ORIGINAL-URL:https://www.tsv-waldenbuch.de
X-WR-CALDESC:Veranstaltungen für TSV Waldenbuch 1891 e.V.
BEGIN:VEVENT
DTSTART;VALUE=DATE:20231202
DTEND;VALUE=DATE:20231204
DTSTAMP:20260420T164503
CREATED:20231127T142552Z
LAST-MODIFIED:20231127T142552Z
UID:26710-1701475200-1701647999@www.tsv-waldenbuch.de
SUMMARY:Unsere nächsten Auswärtsspiele in der Winterhallenrunde
DESCRIPTION:Damen 40\, Kreisstaffel 1: TA SV Bondorf 2 – TA TSV Waldenbuch 2\nSa.\, 02.12.2023\, 16:00 Uhr\, Spielort: TS TSV Waldenbuch \nDamen\, Bezirksstaffel 1: TA SV Böblingen 2 – TA TSV Waldenbuch 1\nSa.\, 02.12.2023\, 17:00 Uhr \nJunioren U18\, Bezirksstaffel 2: TC Rutesheim 1 – TA TSV Waldenbuch 1\nSo.\, 03.12.2023\, 12:00 Uhr\, Spielort: TA TSV Waldenbuch \n
URL:https://www.tsv-waldenbuch.de/termin/unsere-naechsten-auswaertsspiele-in-der-winterhallenrunde/
CATEGORIES:Tennis
END:VEVENT
END:VCALENDAR