BEGIN:VCALENDAR
VERSION:2.0
PRODID:-//TSV Waldenbuch 1891 e.V. - ECPv4.6.15//NONSGML v1.0//EN
CALSCALE:GREGORIAN
METHOD:PUBLISH
X-WR-CALNAME:TSV Waldenbuch 1891 e.V.
X-ORIGINAL-URL:https://www.tsv-waldenbuch.de
X-WR-CALDESC:Veranstaltungen für TSV Waldenbuch 1891 e.V.
BEGIN:VEVENT
DTSTART;VALUE=DATE:20240523
DTEND;VALUE=DATE:20240526
DTSTAMP:20260420T121712
CREATED:20240519T143442Z
LAST-MODIFIED:20240519T143442Z
UID:28236-1716422400-1716681599@www.tsv-waldenbuch.de
SUMMARY:Unsere nächsten Heimspiele in der Sommersaison 2024
DESCRIPTION:Hobby Staffel Damen-Doppel: TA TSV Waldenbuch 1 – SPG TC Gäufelden/Nebringen 1\n(Do.\, 23.05.2024\, 14:00 Uhr) \nHobby Staffel Damen Samstagsrunde: TA TSV Waldenbuch 1 – TA SV Böblingen 1\n(Sa.\, 25.05.2024\, 14:00 Uhr) \n
URL:https://www.tsv-waldenbuch.de/termin/unsere-naechsten-heimspiele-in-der-sommersaison-2024/
LOCATION:Teckstraße 24\, Waldenbuch\, 71111
GEO:48.6458582;9.152057
X-APPLE-STRUCTURED-LOCATION;VALUE=URI;X-ADDRESS=Teckstraße 24 Waldenbuch 71111;X-APPLE-RADIUS=500;X-TITLE=Teckstraße 24:geo:9.152057,48.6458582
CATEGORIES:Tennis
END:VEVENT
END:VCALENDAR