BEGIN:VCALENDAR
VERSION:2.0
PRODID:-//TSV Waldenbuch 1891 e.V. - ECPv4.6.15//NONSGML v1.0//EN
CALSCALE:GREGORIAN
METHOD:PUBLISH
X-WR-CALNAME:TSV Waldenbuch 1891 e.V.
X-ORIGINAL-URL:https://www.tsv-waldenbuch.de
X-WR-CALDESC:Veranstaltungen für TSV Waldenbuch 1891 e.V.
BEGIN:VEVENT
DTSTART;VALUE=DATE:20250523
DTEND;VALUE=DATE:20250528
DTSTAMP:20260420T131724
CREATED:20250518T112615Z
LAST-MODIFIED:20250522T085053Z
UID:31289-1747958400-1748390399@www.tsv-waldenbuch.de
SUMMARY:Unsere nächsten Heimspiele in der Sommersaison 2025:
DESCRIPTION:Junioren U15\, Kreisstaffel 2: TA TSV Waldenbuch 1 – TA TV Altdorf 1\n(Fr.\, 23.05.2025\, 15:00 Uhr) \nJunioren U18\, Bezirksstaffel 2: TA TSV Waldenbuch 1 – TC Rutesheim 3\n(Sa.\, 24.05.2025\, 09:00 Uhr) \nHerren 55\, Württembergliga: TA TSV Waldenbuch 1 – TC Weil im Schönbuch 1\n(Sa.\, 24.05.2025\, geänderter Spielbeginn: 12:00 Uhr) \nHerren 50\, Bezirksstaffel 1: TA TSV Waldenbuch 2 – TC Weil im Schönbuch 1\n(Sa.\, 24.05.2025\, 14:00 Uhr) \nDamen 40\, Bezirksliga: TA TSV Waldenbuch 1 – TA TSV Waldenbuch 2\n(Sa.\, 24.05.2025\, 14:00 Uhr) \nDamen\, Verbandsstaffel: TA TSV Waldenbuch 1 – TC Weinstadt-Endersbach 1\n(So.\, 25.05.2025\, 10:00 Uhr) \nHerren 75\, Südwest-Liga: TA TSV Waldenbuch 1 – TC RW Gauangelloch 1\n(Di.\, 27.05.2025\, 13:00 Uhr) \n
URL:https://www.tsv-waldenbuch.de/termin/unsere-naechsten-heimspiele-in-der-sommersaison-2025-2/
LOCATION:Teckstraße 24\, Waldenbuch\, 71111
GEO:48.6458582;9.152057
X-APPLE-STRUCTURED-LOCATION;VALUE=URI;X-ADDRESS=Teckstraße 24 Waldenbuch 71111;X-APPLE-RADIUS=500;X-TITLE=Teckstraße 24:geo:9.152057,48.6458582
CATEGORIES:Tennis
END:VEVENT
END:VCALENDAR