BEGIN:VCALENDAR
VERSION:2.0
PRODID:-//TSV Waldenbuch 1891 e.V. - ECPv4.6.15//NONSGML v1.0//EN
CALSCALE:GREGORIAN
METHOD:PUBLISH
X-WR-CALNAME:TSV Waldenbuch 1891 e.V.
X-ORIGINAL-URL:https://www.tsv-waldenbuch.de
X-WR-CALDESC:Veranstaltungen für TSV Waldenbuch 1891 e.V.
BEGIN:VEVENT
DTSTART;VALUE=DATE:20210702
DTEND;VALUE=DATE:20210709
DTSTAMP:20260420T075435
CREATED:20210618T143137Z
LAST-MODIFIED:20210619T112838Z
UID:20313-1625184000-1625788799@www.tsv-waldenbuch.de
SUMMARY:Unsere nächsten Heimspiele in der Sommersaison
DESCRIPTION:Junioren U15\, Bezirksstaffel 2: TSV 1 – TC Weil im Schönbuch 1\n(Fr.\, 02.07.2021\, 15:00 Uhr) \nJuniorinnen U18\, Bezirksstaffel 2: TSV 1 – SV Möhringen 1\n(Sa.\, 03.07.2021\, 09:00 Uhr) \nHerren 50\, Württembergliga: TSV 1 – TSV Weikersheim 1\n(Sa.\, 03.07.2021\, 14:00 Uhr) \nDamen 40\, Bezirksliga: TSV 2 – STG Geroksruhe 1\n(Sa.\, 03.07.2021\, 14:00 Uhr) \nDamen\, Bezirksoberliga: TSV 1 – TEC Waldau 4\n(So.\, 04.07.2021\, 10:00 Uhr) \nHerren 70\, Württembergstaffel: TSV 1 – TCR Beutelsbach 1\n(Mi.\, 07.07.2021\, 11:00 Uhr) \nHerren 75\, Oberligastaffel: TSV 1 – ETV Nürtingen 1\n(Mi.\, 07.07.2021\, 11:00 Uhr) \nHobby Staffel Damen-Doppel: TSV 1 – TSV Hirsau 1\n(Do.\, 08.07.2021\, 14:00 Uhr) \n
URL:https://www.tsv-waldenbuch.de/termin/unsere-naechsten-heimspiele-in-der-sommersaison-6/
LOCATION:Teckstraße 24\, Waldenbuch\, 71111
GEO:48.6458582;9.152057
X-APPLE-STRUCTURED-LOCATION;VALUE=URI;X-ADDRESS=Teckstraße 24 Waldenbuch 71111;X-APPLE-RADIUS=500;X-TITLE=Teckstraße 24:geo:9.152057,48.6458582
CATEGORIES:Tennis
END:VEVENT
END:VCALENDAR